BEGIN:VCALENDAR
PRODID:-//eluceo/ical//2.0/EN
VERSION:2.0
CALSCALE:GREGORIAN
BEGIN:VEVENT
UID:8f46779a2249fc1b000d4155d8e4a1c2
DTSTAMP:20260421T033149Z
SUMMARY:YAD - GAME DAY at ALISON’s
DESCRIPTION:Jewish Federation of Central Massachusetts\nCalendar\nhttps://j
 ewishcentralmass.org/calendar/yad-game-day-at-alisons\n\nGAME DAY at ALISO
 N’s—Fun and games outdoors on the patio in the shade at Alison’s con
 do complex in Berlin. Sunday\, July 25th\, 4:00 pm. Bring your own snacks 
 and beverages. Since this is a private residence\, we ask that you be vacc
 inated to attend and bring masks to use the clubhouse restroom. If weather
  inclement\, we can do it via Zoom or reschedule. 
DTSTART;TZID=America/New_York:20210725T160000
DTEND;TZID=America/New_York:20210725T190000
END:VEVENT
END:VCALENDAR
