BEGIN:VCALENDAR
PRODID:-//eluceo/ical//2.0/EN
VERSION:2.0
CALSCALE:GREGORIAN
BEGIN:VEVENT
UID:1c6bce548f18c2b783eca93024bfb994
DTSTAMP:20260423T142029Z
SUMMARY:YAD - Froze Zone
DESCRIPTION:Jewish Federation of Central Massachusetts\nCalendar\nhttps://j
 ewishcentralmass.org/calendar/yad-froze-zone\n\nWeeknight Out at Froze Zon
 e: Tuesday\, August 9th\, 7:30 pm\, Froze Zone in West Boylston (Meolas ba
 ck-up if raining)
DTSTART;TZID=America/New_York:20220809T193000
DTEND;TZID=America/New_York:20220809T213000
END:VEVENT
END:VCALENDAR
