BEGIN:VCALENDAR
PRODID:-//eluceo/ical//2.0/EN
VERSION:2.0
CALSCALE:GREGORIAN
BEGIN:VEVENT
UID:edaa2767f9b0068ea3dd351eec9b6e50
DTSTAMP:20260423T223636Z
SUMMARY:YAD - Fall Hike at Cascades
DESCRIPTION:Jewish Federation of Central Massachusetts\nCalendar\nhttps://j
 ewishcentralmass.org/calendar/yad-fall-hike-at-cascades\n\nFall Hike at Ca
 scades\, October 17th\, 11:00 am
DTSTART;TZID=America/New_York:20211017T110000
DTEND;TZID=America/New_York:20211017T130000
END:VEVENT
END:VCALENDAR
