BEGIN:VCALENDAR
PRODID:-//eluceo/ical//2.0/EN
VERSION:2.0
CALSCALE:GREGORIAN
BEGIN:VEVENT
UID:0cd1d1a1442ef55debd734603ebbff82
DTSTAMP:20260422T140843Z
SUMMARY:YAD Downeast Cider
DESCRIPTION:Jewish Federation of Central Massachusetts\nCalendar\nhttps://j
 ewishcentralmass.org/calendar/yad-downeast-cider\n\nYAD Downeast Cider\n\n
 Sunday\, October 7th at 2:00pm\n\nYAD is heading to Boston for a fall tour
  and tasting at Downeast Cider in Boston. Tour is limited to the first 10 
 people who RSVP\, and tasting is open to all.  Please RSVP to mailto:amy.
 centralmassyad@gmail.com or on the YAD Facebook page.
DTSTART;TZID=America/New_York:20181007T140000
DTEND;TZID=America/New_York:20181007T160000
END:VEVENT
END:VCALENDAR
