BEGIN:VCALENDAR
PRODID:-//eluceo/ical//2.0/EN
VERSION:2.0
CALSCALE:GREGORIAN
BEGIN:VEVENT
UID:3cd933e21ba7347bd5360b1a20c4dd27
DTSTAMP:20260422T161233Z
SUMMARY:YAD December Happy Hour
DESCRIPTION:Jewish Federation of Central Massachusetts\nCalendar\nhttps://j
 ewishcentralmass.org/calendar/yad-december-happy-hour\n\nYAD Happy Hour\n\
 nDecember 10th\n\n6:30 - 8:00 pm \n\nLocation: Casa Vallarta\, Rt 9\, No
 rthborough
DTSTART;TZID=America/New_York:20191210T183000
DTEND;TZID=America/New_York:20191210T203000
END:VEVENT
END:VCALENDAR
