BEGIN:VCALENDAR
PRODID:-//eluceo/ical//2.0/EN
VERSION:2.0
CALSCALE:GREGORIAN
BEGIN:VEVENT
UID:b02f3bea3c27fd48d055d995547d4b38
DTSTAMP:20260424T071801Z
SUMMARY:YAD Chinese Food Day and a Movie '19
DESCRIPTION:Jewish Federation of Central Massachusetts\nCalendar\nhttps://j
 ewishcentralmass.org/calendar/yad-chinese-food-day-and-a-movie-19\n\nYAD C
 hinese Food Day and a Movie\n\nTime: TBA
DTSTART;TZID=America/New_York:20191225T120000
DTEND;TZID=America/New_York:20191225T210000
END:VEVENT
END:VCALENDAR
