BEGIN:VCALENDAR
PRODID:-//eluceo/ical//2.0/EN
VERSION:2.0
CALSCALE:GREGORIAN
BEGIN:VEVENT
UID:4bea8cbd1183ea27023864757d6a1f9f
DTSTAMP:20260422T235117Z
SUMMARY:YAD B'YAD - Purim Celebration
DESCRIPTION:Jewish Federation of Central Massachusetts\nCalendar\nhttps://j
 ewishcentralmass.org/calendar/yad-byad-purim-celebration\n\nYAD B'YAD - Pu
 rim Celebration\n\nMarch 17 from 10:30 am - 12:00 pm\n\nBeth Tikvah 
DTSTART;TZID=America/New_York:20240317T103000
DTEND;TZID=America/New_York:20240317T120000
END:VEVENT
END:VCALENDAR
