BEGIN:VCALENDAR
PRODID:-//eluceo/ical//2.0/EN
VERSION:2.0
CALSCALE:GREGORIAN
BEGIN:VEVENT
UID:9adac188311bea4fbaeac523c8739104
DTSTAMP:20260424T085916Z
SUMMARY:YAD B'YAD - Passover Celebration
DESCRIPTION:Jewish Federation of Central Massachusetts\nCalendar\nhttps://j
 ewishcentralmass.org/calendar/yad-byad-passover-celebration\n\nYAD B'YAD -
  Passover Celebration\n\nMarch 17 from 10:30 am - 12:00 pm\n\nBeth Tikvah
  
DTSTART;TZID=America/New_York:20240407T103000
DTEND;TZID=America/New_York:20240407T120000
END:VEVENT
END:VCALENDAR
