BEGIN:VCALENDAR
PRODID:-//eluceo/ical//2.0/EN
VERSION:2.0
CALSCALE:GREGORIAN
BEGIN:VEVENT
UID:24e991710ca70599afb0d432c753168d
DTSTAMP:20260423T001451Z
SUMMARY:YAD B'YAD - Mitzvot & Kindness
DESCRIPTION:Jewish Federation of Central Massachusetts\nCalendar\nhttps://j
 ewishcentralmass.org/calendar/yad-byad-mitzvot-kindness\n\nYAD B'YAD - Mit
 zvot & Kindness\n\nFebruary 11 from 10:30 am - 12:00 pm\n\nBeth Tikvah
DTSTART;TZID=America/New_York:20240211T103000
DTEND;TZID=America/New_York:20240211T120000
END:VEVENT
END:VCALENDAR
