BEGIN:VCALENDAR
PRODID:-//eluceo/ical//2.0/EN
VERSION:2.0
CALSCALE:GREGORIAN
BEGIN:VEVENT
UID:32cf3a1db0fd7b1aa977292bc0b2a688
DTSTAMP:20260422T010215Z
SUMMARY:YAD Bowling
DESCRIPTION:Jewish Federation of Central Massachusetts\nCalendar\nhttps://j
 ewishcentralmass.org/calendar/yad-bowling\n\nYAD Bowling: Feb 12\, 6:00 pm
 \, AMF Shrewsbury
DTSTART;TZID=America/New_York:20170212T180000
DTEND;TZID=America/New_York:20170212T200000
END:VEVENT
END:VCALENDAR
