BEGIN:VCALENDAR
PRODID:-//eluceo/ical//2.0/EN
VERSION:2.0
CALSCALE:GREGORIAN
BEGIN:VEVENT
UID:c0275fe735a9581a85abbe898ddec969
DTSTAMP:20260422T192902Z
SUMMARY:YAD Blueberry Picking
DESCRIPTION:Jewish Federation of Central Massachusetts\nCalendar\nhttps://j
 ewishcentralmass.org/calendar/yad-blueberry-picking\n\nBlueberry Picking a
 nd Ice Cream: July 17 (TBC) George Hill Orchards blueberry picking followe
 d by ice cream at Rota Springs Farm in Sterling.
DTSTART;TZID=America/New_York:20220717T130000
DTEND;TZID=America/New_York:20220717T150000
END:VEVENT
END:VCALENDAR
