BEGIN:VCALENDAR
PRODID:-//eluceo/ical//2.0/EN
VERSION:2.0
CALSCALE:GREGORIAN
BEGIN:VEVENT
UID:008a92d8291ff03b25c28e3a81da22fe
DTSTAMP:20260420T230255Z
SUMMARY:YAD Apple Picking 2024
DESCRIPTION:Jewish Federation of Central Massachusetts\nCalendar\nhttps://j
 ewishcentralmass.org/calendar/yad-apple-picking-2024\n\nYAD Apple Picking 
 \, September 22nd\n\n 
DTSTART;TZID=America/New_York:20240922T000000
DTEND;TZID=America/New_York:20240922T235959
END:VEVENT
END:VCALENDAR
