BEGIN:VCALENDAR
PRODID:-//eluceo/ical//2.0/EN
VERSION:2.0
CALSCALE:GREGORIAN
BEGIN:VEVENT
UID:db7f3d4439ba15ce5cdf4ff9f6001e0a
DTSTAMP:20260423T061714Z
SUMMARY:YAD Apple Picking 2023
DESCRIPTION:Jewish Federation of Central Massachusetts\nCalendar\nhttps://j
 ewishcentralmass.org/calendar/yad-apple-picking-2023\n\nYAD apple picking 
 10:00 am on September 10th\, George Hill Orchards\, Lancaster
DTSTART;TZID=America/New_York:20230910T100000
DTEND;TZID=America/New_York:20230910T120000
END:VEVENT
END:VCALENDAR
