BEGIN:VCALENDAR
PRODID:-//eluceo/ical//2.0/EN
VERSION:2.0
CALSCALE:GREGORIAN
BEGIN:VEVENT
UID:eaf9864e7daacb00da4bfaf7e48bb996
DTSTAMP:20260423T165310Z
SUMMARY:YAD - Apple Picking 2021
DESCRIPTION:Jewish Federation of Central Massachusetts\nCalendar\nhttps://j
 ewishcentralmass.org/calendar/yad-apple-picking-2021\n\nYAD - Apple Pickin
 g at 10 am
DTSTART;TZID=America/New_York:20210905T100000
DTEND;TZID=America/New_York:20210905T120000
END:VEVENT
END:VCALENDAR
