BEGIN:VCALENDAR
PRODID:-//eluceo/ical//2.0/EN
VERSION:2.0
CALSCALE:GREGORIAN
BEGIN:VEVENT
UID:fab0b513a78e802e6bf0740e66c12a71
DTSTAMP:20260422T041658Z
SUMMARY:YAD Apple Picking 2020
DESCRIPTION:Jewish Federation of Central Massachusetts\nCalendar\nhttps://j
 ewishcentralmass.org/calendar/yad-apple-picking-2020\n\nYAD Apple Picking\
 , time and place TBA
DTSTART;TZID=America/New_York:20200830T130000
DTEND;TZID=America/New_York:20200830T150000
END:VEVENT
END:VCALENDAR
