BEGIN:VCALENDAR
PRODID:-//eluceo/ical//2.0/EN
VERSION:2.0
CALSCALE:GREGORIAN
BEGIN:VEVENT
UID:2cfe7a95df3bf5c1ede9d4894af9f0b3
DTSTAMP:20260423T033009Z
SUMMARY:YAD Apple Picking
DESCRIPTION:Jewish Federation of Central Massachusetts\nCalendar\nhttps://j
 ewishcentralmass.org/calendar/yad-apple-picking\n\nYAD Apple Picking\, 11:
 00 am
DTSTART;TZID=America/New_York:20190922T110000
DTEND;TZID=America/New_York:20190922T130000
END:VEVENT
END:VCALENDAR
