BEGIN:VCALENDAR
PRODID:-//eluceo/ical//2.0/EN
VERSION:2.0
CALSCALE:GREGORIAN
BEGIN:VEVENT
UID:3d92d0a06a453e2c853554938be4fefe
DTSTAMP:20260421T032826Z
SUMMARY:YAD Annual Picnic in the Park and Newcomer Brunch - 2024
DESCRIPTION:Jewish Federation of Central Massachusetts\nCalendar\nhttps://j
 ewishcentralmass.org/calendar/yad-annual-picnic-in-the-park-and-newcomer-b
 runch-2024\n\nYAD Annual Picnic in the Park and Newcomer Brunch: Sunday\, 
 August 18th\, 12:30 pm
DTSTART;TZID=America/New_York:20240818T123000
DTEND;TZID=America/New_York:20240818T163000
END:VEVENT
END:VCALENDAR
