BEGIN:VCALENDAR
PRODID:-//eluceo/ical//2.0/EN
VERSION:2.0
CALSCALE:GREGORIAN
BEGIN:VEVENT
UID:03092354c7d4611db29559bd17f54e58
DTSTAMP:20260422T082733Z
SUMMARY:A Rabbi\, A Priest\, and a Minister Walk Into A Bar: An Interfaith 
 Discussion
DESCRIPTION:Jewish Federation of Central Massachusetts\nCalendar\nhttps://j
 ewishcentralmass.org/calendar/yad-a-rabbi-a-priest-and-a-minister-walk-int
 o-a-bar-an-interfaith-discussion\n\nYAD Event: A Rabbi\, a Priest\, and a 
 Minster Walk Into a Bar: An Interfaith Discussion
DTSTART;TZID=America/New_York:20151101T160000
DTEND;TZID=America/New_York:20151101T180000
END:VEVENT
END:VCALENDAR
