BEGIN:VCALENDAR
PRODID:-//eluceo/ical//2.0/EN
VERSION:2.0
CALSCALE:GREGORIAN
BEGIN:VEVENT
UID:07c4a80efa09ae137301b09169b3c399
DTSTAMP:20260422T051613Z
SUMMARY:YAD 2019 Hanuakkah Party
DESCRIPTION:Jewish Federation of Central Massachusetts\nCalendar\nhttps://j
 ewishcentralmass.org/calendar/yad-2019-hanuakkah-party\n\nYAD 2019 Hanuakk
 ah Party\, Shrewsbury\, MA
DTSTART;TZID=America/New_York:20191221T190000
DTEND;TZID=America/New_York:20191221T220000
END:VEVENT
END:VCALENDAR
