BEGIN:VCALENDAR
PRODID:-//eluceo/ical//2.0/EN
VERSION:2.0
CALSCALE:GREGORIAN
BEGIN:VEVENT
UID:4874b978e1baaf871a47221686395e50
DTSTAMP:20260421T012120Z
SUMMARY:Worcester Railers Game
DESCRIPTION:Jewish Federation of Central Massachusetts\nCalendar\nhttps://j
 ewishcentralmass.org/calendar/worcester-railers-game\n\n Worcester Railer
 s Game (Co-hosted by BI Brotherhood and JFCM) \n\nMarch 3rd\, 3:05 pm.\n\n
 Purchase tickets here
DTSTART;TZID=America/New_York:20240303T150000
DTEND;TZID=America/New_York:20240303T170000
END:VEVENT
END:VCALENDAR
