BEGIN:VCALENDAR
PRODID:-//eluceo/ical//2.0/EN
VERSION:2.0
CALSCALE:GREGORIAN
BEGIN:VEVENT
UID:85cb40191fbe7ff25f31d184a49ce3d8
DTSTAMP:20260422T165249Z
SUMMARY:Worcester Orthodox Council Town Meeting Brunch
DESCRIPTION:Jewish Federation of Central Massachusetts\nCalendar\nhttps://j
 ewishcentralmass.org/calendar/worcester-orthodox-council-town-meeting-brun
 ch\n\nWorcester Orthodox Council Town Mtg (tent
DTSTART;TZID=America/New_York:20130519T103000
DTEND;TZID=America/New_York:20130519T130000
END:VEVENT
END:VCALENDAR
