BEGIN:VCALENDAR
PRODID:-//eluceo/ical//2.0/EN
VERSION:2.0
CALSCALE:GREGORIAN
BEGIN:VEVENT
UID:65c2cc387b3da6d2b40252b963be5ef5
DTSTAMP:20260424T041651Z
SUMMARY:Worcester Jewish Community Center Circus Smirkus at Wachusett Mtn
DESCRIPTION:Jewish Federation of Central Massachusetts\nCalendar\nhttps://j
 ewishcentralmass.org/calendar/worcester-jewish-community-center-circus-smi
 rkus-at-wachusett-mtn\n\nJCC Circus Smirkus at Wachusett Mtg
DTSTART;TZID=America/New_York:20130713T000000
DTEND;TZID=America/New_York:20130714T235900
END:VEVENT
END:VCALENDAR
