BEGIN:VCALENDAR
PRODID:-//eluceo/ical//2.0/EN
VERSION:2.0
CALSCALE:GREGORIAN
BEGIN:VEVENT
UID:a6b48375912ceefafe9413b2ce24efb0
DTSTAMP:20260422T162437Z
SUMMARY:Worcester Jewish Community Center Camp Open House
DESCRIPTION:Jewish Federation of Central Massachusetts\nCalendar\nhttps://j
 ewishcentralmass.org/calendar/worcester-jewish-community-center-camp-open-
 house\n\nJCC Camp Open House
DTSTART;TZID=America/New_York:20130407T110000
DTEND;TZID=America/New_York:20130407T130000
END:VEVENT
END:VCALENDAR
