BEGIN:VCALENDAR
PRODID:-//eluceo/ical//2.0/EN
VERSION:2.0
CALSCALE:GREGORIAN
BEGIN:VEVENT
UID:ad67f0e143dc1e2cb6eea12e45a1b21d
DTSTAMP:20260420T150001Z
SUMMARY:Worcester Jewish Community Center Board Meeting
DESCRIPTION:Jewish Federation of Central Massachusetts\nCalendar\nhttps://j
 ewishcentralmass.org/calendar/worcester-jewish-community-center-board-meet
 ing\n\nJCC Bd
DTSTART;TZID=America/New_York:20130117T193000
DTEND;TZID=America/New_York:20130117T200000
END:VEVENT
END:VCALENDAR
