BEGIN:VCALENDAR
PRODID:-//eluceo/ical//2.0/EN
VERSION:2.0
CALSCALE:GREGORIAN
BEGIN:VEVENT
UID:2fcf473fd321bd4ce5db12e51e0bd9f5
DTSTAMP:20260422T195220Z
SUMMARY:Worcester JCC Night at the Railers
DESCRIPTION:Jewish Federation of Central Massachusetts\nCalendar\nhttps://j
 ewishcentralmass.org/calendar/worcester-jcc-night-at-the-railers\n\nWorces
 ter JCC Night at the Railers\n\nSunday\, January 11\, 2026\n\n3:05pm
DTSTART;TZID=America/New_York:20260111T150000
DTEND;TZID=America/New_York:20260111T170000
END:VEVENT
END:VCALENDAR
