BEGIN:VCALENDAR
PRODID:-//eluceo/ical//2.0/EN
VERSION:2.0
CALSCALE:GREGORIAN
BEGIN:VEVENT
UID:f35866287efa65ec19b6eda9f5e63fbe
DTSTAMP:20260424T192523Z
SUMMARY:Worcester JCC Author Series\, Virtual on Zoom 6
DESCRIPTION:Jewish Federation of Central Massachusetts\nCalendar\nhttps://j
 ewishcentralmass.org/calendar/worcester-jcc-author-series-virtual-on-zoom-
 6\n\nNorman Finkelstein\, author of Saying No to Hate\, April 10\, 2025 @ 
 7pm\; (presented by Rabbi Barry Schwartz)
DTSTART;TZID=America/New_York:20250410T190000
DTEND;TZID=America/New_York:20250410T210000
END:VEVENT
END:VCALENDAR
