BEGIN:VCALENDAR
PRODID:-//eluceo/ical//2.0/EN
VERSION:2.0
CALSCALE:GREGORIAN
BEGIN:VEVENT
UID:073d617c2f7b2210e5ebfff85c6b049f
DTSTAMP:20260422T002433Z
SUMMARY:Worcester JCC Author Series\, Virtual on Zoom 4
DESCRIPTION:Jewish Federation of Central Massachusetts\nCalendar\nhttps://j
 ewishcentralmass.org/calendar/worcester-jcc-author-series-virtual-on-zoom-
 4\n\nJulie Satow\, author of When Women Ran Fifth Avenue\, March 6\, 2025 
 @ 2pm
DTSTART;TZID=America/New_York:20250306T140000
DTEND;TZID=America/New_York:20250306T160000
END:VEVENT
END:VCALENDAR
