BEGIN:VCALENDAR
PRODID:-//eluceo/ical//2.0/EN
VERSION:2.0
CALSCALE:GREGORIAN
BEGIN:VEVENT
UID:f679606ad4f26a65e1dcf3aed46e7075
DTSTAMP:20260421T022924Z
SUMMARY:Worcester JCC Author Series\, Virtual on Zoom 3
DESCRIPTION:Jewish Federation of Central Massachusetts\nCalendar\nhttps://j
 ewishcentralmass.org/calendar/worcester-jcc-author-series-virtual-on-zoom-
 3\n\nDavid Tatel\, author of Vision: A Memoir of Blindness and Justice\, F
 ebruary 6\, 2025 @ 2pm
DTSTART;TZID=America/New_York:20250206T140000
DTEND;TZID=America/New_York:20250206T160000
END:VEVENT
END:VCALENDAR
