BEGIN:VCALENDAR
PRODID:-//eluceo/ical//2.0/EN
VERSION:2.0
CALSCALE:GREGORIAN
BEGIN:VEVENT
UID:0457c5d510c2d8b364e84b751df652e0
DTSTAMP:20260420T212117Z
SUMMARY:Worcester JCC Author Series - Virtual - September 22
DESCRIPTION:Jewish Federation of Central Massachusetts\nCalendar\nhttps://j
 ewishcentralmass.org/calendar/worcester-jcc-author-series-virtual--septemb
 er-22\n\nWorcester JCC Author Series\n\nBrad Synder SEPTEMBER 22\, 2022\, 
 7 PM\, VIRTUAL
DTSTART;TZID=America/New_York:20220922T190000
DTEND;TZID=America/New_York:20220922T210000
END:VEVENT
END:VCALENDAR
