BEGIN:VCALENDAR
PRODID:-//eluceo/ical//2.0/EN
VERSION:2.0
CALSCALE:GREGORIAN
BEGIN:VEVENT
UID:a8a9509bc080d75bd28be80a2e49b3ce
DTSTAMP:20260422T162643Z
SUMMARY:Worcester JCC Author Series - Virtual - September 15
DESCRIPTION:Jewish Federation of Central Massachusetts\nCalendar\nhttps://j
 ewishcentralmass.org/calendar/worcester-jcc-author-series-virtual--septemb
 er-15\n\nWorcester JCC Author Series\n\nMichael Twitty SEPTEMBER 15\, 2022
 \, 12:30 PM\, VIRTUAL
DTSTART;TZID=America/New_York:20220915T123000
DTEND;TZID=America/New_York:20220915T143000
END:VEVENT
END:VCALENDAR
