BEGIN:VCALENDAR
PRODID:-//eluceo/ical//2.0/EN
VERSION:2.0
CALSCALE:GREGORIAN
BEGIN:VEVENT
UID:ef523e17ecf848c8defbc47c3bd30ae2
DTSTAMP:20260424T131418Z
SUMMARY:Worcester JCC Author Series - Virtual - November 9
DESCRIPTION:Jewish Federation of Central Massachusetts\nCalendar\nhttps://j
 ewishcentralmass.org/calendar/worcester-jcc-author-series-virtual--novembe
 r-9\n\nWorcester JCC Author Series\n\nDaniel Levin NOVEMBER 9\, 2022 7 PM\
 , VIRTUAL\n\nClick Here to register
DTSTART;TZID=America/New_York:20221109T190000
DTEND;TZID=America/New_York:20221109T210000
END:VEVENT
END:VCALENDAR
