BEGIN:VCALENDAR
PRODID:-//eluceo/ical//2.0/EN
VERSION:2.0
CALSCALE:GREGORIAN
BEGIN:VEVENT
UID:1f1ebc11f0706eaa510d12f8df0ebb41
DTSTAMP:20260422T170854Z
SUMMARY:Worcester JCC Author Series - Virtual - November 2
DESCRIPTION:Jewish Federation of Central Massachusetts\nCalendar\nhttps://j
 ewishcentralmass.org/calendar/worcester-jcc-author-series-virtual--novembe
 r-2\n\nWorcester JCC Author Series\n\nJean Meltzer NOVEMBER 2\, 2022 7:30 
 PM\, VIRTUAL
DTSTART;TZID=America/New_York:20221102T193000
DTEND;TZID=America/New_York:20221102T213000
END:VEVENT
END:VCALENDAR
