BEGIN:VCALENDAR
PRODID:-//eluceo/ical//2.0/EN
VERSION:2.0
CALSCALE:GREGORIAN
BEGIN:VEVENT
UID:7f5bdbd8a11ad1f54b47cc8c53fcbaa2
DTSTAMP:20260423T045339Z
SUMMARY:Worcester JCC Author Series - Virtual - May 9
DESCRIPTION:Jewish Federation of Central Massachusetts\nCalendar\nhttps://j
 ewishcentralmass.org/calendar/worcester-jcc-author-series-virtual--may-9\n
 \n \n\nMarjorie Margolies MAY 9\, 2023 3 PM\, VIRTUAL
DTSTART;TZID=America/New_York:20230509T150000
DTEND;TZID=America/New_York:20230509T170000
END:VEVENT
END:VCALENDAR
