BEGIN:VCALENDAR
PRODID:-//eluceo/ical//2.0/EN
VERSION:2.0
CALSCALE:GREGORIAN
BEGIN:VEVENT
UID:16fb9614ef86bf0bbde17bca32d5242a
DTSTAMP:20260423T133755Z
SUMMARY:Worcester JCC Author Series - Virtual - January 26
DESCRIPTION:Jewish Federation of Central Massachusetts\nCalendar\nhttps://j
 ewishcentralmass.org/calendar/worcester-jcc-author-series-virtual--january
 -26\n\nWorcester JCC Author Series\n\nAndrew Lawler JANUARY 26\, 2023 7 PM
 \, VIRTUAL
DTSTART;TZID=America/New_York:20230126T190000
DTEND;TZID=America/New_York:20230126T210000
END:VEVENT
END:VCALENDAR
