BEGIN:VCALENDAR
PRODID:-//eluceo/ical//2.0/EN
VERSION:2.0
CALSCALE:GREGORIAN
BEGIN:VEVENT
UID:a975de46546e018da96d3f6590fb6e9e
DTSTAMP:20260421T010105Z
SUMMARY:Worcester JCC Author Series - Virtual - January 10
DESCRIPTION:Jewish Federation of Central Massachusetts\nCalendar\nhttps://j
 ewishcentralmass.org/calendar/worcester-jcc-author-series-virtual--january
 -10\n\nWorcester JCC Author Series\n\nDebby Applegate JANUARY 10\, 2023 2 
 PM\, VIRTUAL
DTSTART;TZID=America/New_York:20230110T140000
DTEND;TZID=America/New_York:20230110T160000
END:VEVENT
END:VCALENDAR
