BEGIN:VCALENDAR
PRODID:-//eluceo/ical//2.0/EN
VERSION:2.0
CALSCALE:GREGORIAN
BEGIN:VEVENT
UID:f6a3b71923e5c264020118b195e29e56
DTSTAMP:20260422T115955Z
SUMMARY:Worcester JCC Author Series - Virtual - December 8
DESCRIPTION:Jewish Federation of Central Massachusetts\nCalendar\nhttps://j
 ewishcentralmass.org/calendar/worcester-jcc-author-series-virtual--decembe
 r-8\n\nWorcester JCC Author Series\n\nFaith Kramer DECEMBER 8\, 2022 7 PM\
 , VIRTUAL
DTSTART;TZID=America/New_York:20221208T000000
DTEND;TZID=America/New_York:20221208T235959
END:VEVENT
END:VCALENDAR
