BEGIN:VCALENDAR
PRODID:-//eluceo/ical//2.0/EN
VERSION:2.0
CALSCALE:GREGORIAN
BEGIN:VEVENT
UID:db9a6b70c6f0251ac19383725792519d
DTSTAMP:20260423T123727Z
SUMMARY:Worcester JCC Author Series - TES - October 30
DESCRIPTION:Jewish Federation of Central Massachusetts\nCalendar\nhttps://j
 ewishcentralmass.org/calendar/worcester-jcc-author-series-tes--october-30\
 n\nWorcester JCC Author Series\n\nTamar Haspel OCTOBER 30\, 2022\, 10 AM @
  TEMPLE EMANUEL SINAI
DTSTART;TZID=America/New_York:20221030T100000
DTEND;TZID=America/New_York:20221030T120000
END:VEVENT
END:VCALENDAR
