BEGIN:VCALENDAR
PRODID:-//eluceo/ical//2.0/EN
VERSION:2.0
CALSCALE:GREGORIAN
BEGIN:VEVENT
UID:e5eeb9ea2adbdd539b4056424054f3fc
DTSTAMP:20260423T062447Z
SUMMARY:Worcester JCC Author Series\, November 2024
DESCRIPTION:Jewish Federation of Central Massachusetts\nCalendar\nhttps://j
 ewishcentralmass.org/calendar/worcester-jcc-author-series-november-2024\n\
 nHasia Diner\, author of Opening Doors: The Unlikely Alliance Between the 
 Irish and the Jews in America\, November 10 @ 2pm\, at Hibernian Cultural 
 Center\, Worcester
DTSTART;TZID=America/New_York:20241110T140000
DTEND;TZID=America/New_York:20241110T160000
END:VEVENT
END:VCALENDAR
