BEGIN:VCALENDAR
PRODID:-//eluceo/ical//2.0/EN
VERSION:2.0
CALSCALE:GREGORIAN
BEGIN:VEVENT
UID:3d121b45f1ad0423fb5a2014ed381a8a
DTSTAMP:20260423T010948Z
SUMMARY:Worcester JCC Author Series - Nov '18
DESCRIPTION:Jewish Federation of Central Massachusetts\nCalendar\nhttps://j
 ewishcentralmass.org/calendar/worcester-jcc-author-series-nov-18\n\nNovemb
 er 7\, Wednesday night\, 7 pm– Worcester JCC Author Series Presents Ga
 brielle Rossmer Gropman and Sonya Gropman Authors of:  The German-Jewish
  Cookbook\, at Congregation B’nai Shalom. A talk\, cooking demo\, and f
 ood tasting with mother-daughter team\, Gabrielle and Sonya  Gropman.   
 Hadassah Boroughs Chapter\, CBS Sisterhood and Beth Tikvah Synagogue are 
 co-sponsoring. 
DTSTART;TZID=America/New_York:20181107T190000
DTEND;TZID=America/New_York:20181107T210000
END:VEVENT
END:VCALENDAR
