BEGIN:VCALENDAR
PRODID:-//eluceo/ical//2.0/EN
VERSION:2.0
CALSCALE:GREGORIAN
BEGIN:VEVENT
UID:a18dddd2da60f316c298b42342d35cdd
DTSTAMP:20260422T012555Z
SUMMARY:Worcester JCC Author Series: Mark Fins
DESCRIPTION:Jewish Federation of Central Massachusetts\nCalendar\nhttps://j
 ewishcentralmass.org/calendar/worcester-jcc-author-series-mark-fins\n\nWor
 cester JCC Author Series\n\nMark Fins\, author of\, Imagine That\n\nTuesda
 y\, September 13\, 2016\, 7:00 pm\n\nCongregation Beth Israel\n\n15 Jamesb
 ury Dr.\; Worcester
DTSTART;TZID=America/New_York:20160913T190000
DTEND;TZID=America/New_York:20160913T210000
END:VEVENT
END:VCALENDAR
