BEGIN:VCALENDAR
PRODID:-//eluceo/ical//2.0/EN
VERSION:2.0
CALSCALE:GREGORIAN
BEGIN:VEVENT
UID:a43b25e4d5b657308af6dcdbaeff1786
DTSTAMP:20260422T094523Z
SUMMARY:Worcester JCC Author Series: Lawrence Douglas
DESCRIPTION:Jewish Federation of Central Massachusetts\nCalendar\nhttps://j
 ewishcentralmass.org/calendar/worcester-jcc-author-series-lawrence-douglas
 \n\nWorcester JCC Author Series: Lawrence Douglas\, author of The Right Wr
 ong Man \n\nTuesday\, November 29\, 7:00 pm at Worcster JCC\n\n 
DTSTART;TZID=America/New_York:20161129T190000
DTEND;TZID=America/New_York:20161129T210000
END:VEVENT
END:VCALENDAR
