BEGIN:VCALENDAR
PRODID:-//eluceo/ical//2.0/EN
VERSION:2.0
CALSCALE:GREGORIAN
BEGIN:VEVENT
UID:285e4265d84df0733e30911314b82dd9
DTSTAMP:20260423T175712Z
SUMMARY:Worcester JCC Author Series - JCC - October 22
DESCRIPTION:Jewish Federation of Central Massachusetts\nCalendar\nhttps://j
 ewishcentralmass.org/calendar/worcester-jcc-author-series-jcc--october-22\
 n\nWorcester JCC Author Series\n\nMarilyn Simon Rothstein OCTOBER 24\, 202
 2\, 1 PM\, @ JCC
DTSTART;TZID=America/New_York:20221024T130000
DTEND;TZID=America/New_York:20221024T150000
END:VEVENT
END:VCALENDAR
