BEGIN:VCALENDAR
PRODID:-//eluceo/ical//2.0/EN
VERSION:2.0
CALSCALE:GREGORIAN
BEGIN:VEVENT
UID:1a02029419f99f99703825549acacf2c
DTSTAMP:20260421T022235Z
SUMMARY:Worcester JCC Author Series\, Fall 2024\, October 2024
DESCRIPTION:Jewish Federation of Central Massachusetts\nCalendar\nhttps://j
 ewishcentralmass.org/calendar/worcester-jcc-author-series-fall-2024-octobe
 r-2024\n\nCarol Goodman Kaufman\, author of The First Murder\, October 21 
 @ 2pm\, at Worcester JCC
DTSTART;TZID=America/New_York:20241021T140000
DTEND;TZID=America/New_York:20241021T160000
END:VEVENT
END:VCALENDAR
