BEGIN:VCALENDAR
PRODID:-//eluceo/ical//2.0/EN
VERSION:2.0
CALSCALE:GREGORIAN
BEGIN:VEVENT
UID:109f2991861b84dccdcf6a187dcf0882
DTSTAMP:20260422T104439Z
SUMMARY:Worcester JCC Author Series: Dov Waxman
DESCRIPTION:Jewish Federation of Central Massachusetts\nCalendar\nhttps://j
 ewishcentralmass.org/calendar/worcester-jcc-author-series-dov-waxman\n\nWo
 rcester JCC Author Series: Dov Waxman\, author of\, Trouble in the Tribe: 
 The American Jewish Conflict over Israel\n\nMonday\, December 12\, 7:00 pm
  at Worcester JCC
DTSTART;TZID=America/New_York:20161212T190000
DTEND;TZID=America/New_York:20161212T210000
END:VEVENT
END:VCALENDAR
