BEGIN:VCALENDAR
PRODID:-//eluceo/ical//2.0/EN
VERSION:2.0
CALSCALE:GREGORIAN
BEGIN:VEVENT
UID:3f13f94387c4959a9190e5b4afa9b5ea
DTSTAMP:20260420T165749Z
SUMMARY:Worcester Florida Reunion 2022
DESCRIPTION:Jewish Federation of Central Massachusetts\nCalendar\nhttps://j
 ewishcentralmass.org/calendar/worcester-florida-reunion-2022\n\nFeb. 3 Wor
 cester Florida Reunion
DTSTART;TZID=America/New_York:20220203T100000
DTEND;TZID=America/New_York:20220203T150000
END:VEVENT
END:VCALENDAR
