BEGIN:VCALENDAR
PRODID:-//eluceo/ical//2.0/EN
VERSION:2.0
CALSCALE:GREGORIAN
BEGIN:VEVENT
UID:abdc7686f8962352bb2756b4de84b2c6
DTSTAMP:20260423T001140Z
SUMMARY:Worcester Florida Reunion
DESCRIPTION:Jewish Federation of Central Massachusetts\nCalendar\nhttps://j
 ewishcentralmass.org/calendar/worcester-florida-reunion\n\nWorcester Flori
 da Reunion
DTSTART;TZID=America/New_York:20170209T110000
DTEND;TZID=America/New_York:20170209T140000
END:VEVENT
END:VCALENDAR
