BEGIN:VCALENDAR
PRODID:-//eluceo/ical//2.0/EN
VERSION:2.0
CALSCALE:GREGORIAN
BEGIN:VEVENT
UID:42105090a01873badea983ef2b9ca9c0
DTSTAMP:20260422T133720Z
SUMMARY:Worcester Florida Party 2024
DESCRIPTION:Jewish Federation of Central Massachusetts\nCalendar\nhttps://j
 ewishcentralmass.org/calendar/worcester-florida-party-2024\n\nWorcester Fl
 orida Party\n\nFebruary 1\, 2024
DTSTART;TZID=America/New_York:20240201T110000
DTEND;TZID=America/New_York:20240201T150000
END:VEVENT
END:VCALENDAR
