BEGIN:VCALENDAR
PRODID:-//eluceo/ical//2.0/EN
VERSION:2.0
CALSCALE:GREGORIAN
BEGIN:VEVENT
UID:6d0e7c4b57160a19753a0ff1cdba7cdd
DTSTAMP:20260423T001559Z
SUMMARY:Worcester Community Religious School Last Day
DESCRIPTION:Jewish Federation of Central Massachusetts\nCalendar\nhttps://j
 ewishcentralmass.org/calendar/worcester-community-religious-school-last-da
 y\n\nWCRS last day of school
DTSTART;TZID=America/New_York:20130518T000000
DTEND;TZID=America/New_York:20130518T235900
END:VEVENT
END:VCALENDAR
