BEGIN:VCALENDAR
PRODID:-//eluceo/ical//2.0/EN
VERSION:2.0
CALSCALE:GREGORIAN
BEGIN:VEVENT
UID:97e9b389152b89dfafd994b7364695de
DTSTAMP:20260422T094852Z
SUMMARY:Worcester Community Hebrew High School Student Meeting
DESCRIPTION:Jewish Federation of Central Massachusetts\nCalendar\nhttps://j
 ewishcentralmass.org/calendar/worcester-community-hebrew-high-school-stude
 nt-meeting\n\nWorcester Community Hebrew High School Student Meeting with 
 pizza
DTSTART;TZID=America/New_York:20180605T160000
DTEND;TZID=America/New_York:20180605T180000
END:VEVENT
END:VCALENDAR
