BEGIN:VCALENDAR
PRODID:-//eluceo/ical//2.0/EN
VERSION:2.0
CALSCALE:GREGORIAN
BEGIN:VEVENT
UID:e26bc811e3e0107499b333f18124e71c
DTSTAMP:20260422T223624Z
SUMMARY:Worcester Community Hebrew High School 1st night
DESCRIPTION:Jewish Federation of Central Massachusetts\nCalendar\nhttps://j
 ewishcentralmass.org/calendar/worcester-community-hebrew-high-school-1st-n
 ight\n\nWCHHS 1st night
DTSTART;TZID=America/New_York:20131003T000000
DTEND;TZID=America/New_York:20131003T235900
END:VEVENT
END:VCALENDAR
